BEGIN:VCALENDAR
VERSION:2.0
PRODID:spatie/icalendar-generator
DESCRIPTION:Events from Hnas. Franciscanas de la Inmaculada
X-WR-CALDESC:Events from Hnas. Franciscanas de la Inmaculada
REFRESH-INTERVAL;VALUE=DURATION:PT1440M
X-PUBLISHED-TTL:PT1440M
BEGIN:VTIMEZONE
TZID:Europe/Madrid
BEGIN:STANDARD
DTSTART:20211031T030000Z
TZOFFSETFROM:+0200
TZOFFSETTO:+0100
END:STANDARD
BEGIN:DAYLIGHT
DTSTART:20220327T020000Z
TZOFFSETFROM:+0100
TZOFFSETTO:+0200
END:DAYLIGHT
END:VTIMEZONE
BEGIN:VTIMEZONE
TZID:UTC
BEGIN:STANDARD
DTSTART:20250728T111253Z
TZOFFSETFROM:+0000
TZOFFSETTO:+0000
END:STANDARD
END:VTIMEZONE
BEGIN:VEVENT
UID:217-10
DTSTAMP:20260424T111253Z
SUMMARY:Fallecimiento Madre Francisca
LOCATION:
ORGANIZER;CN=Centro:MAILTO:centroespiritualidadmoncada@gmail.com
RRULE:FREQ=YEARLY;BYMONTH=04;BYDAY=26;COUNT=50
DTSTART;TZID=Europe/Madrid;VALUE=DATE:20220426
DTEND;TZID=Europe/Madrid;VALUE=DATE:20220427
X-ALT-DESC;FMTTYPE=TEXT/HTML:
CATEGORIES:Celebraciones
URL;VALUE=URI:http://centroespiritualidadmoncada.es/mc-events/fallecimiento
 -madre-francisca/?mc_id=217
METHOD:PUBLISH
END:VEVENT
END:VCALENDAR